BEGIN:VCALENDAR
VERSION:2.0
CALSCALE:GREGORIAN
PRODID:-//WordPress//RSVPMaker//EN
METHOD:REQUEST
BEGIN:VEVENT
DTSTAMP:20260420T024141Z
UID:7FA931F3CFC183FEF8CA7AC5EE1FEBCC@rsvpmaker.com
SEQUENCE:0
STATUS:CONFIRMED
DTSTART:20240714T080000Z
DTEND:20240714T120000Z
LOCATION:See\: https\://www.jdykk.no/rsvpmaker/fridykkerkurs-2024-07-1
 4/
SUMMARY:Fridykkerkurs
DESCRIPTION:Event info\: https\://www.jdykk.no/rsvpmaker/fridykkerkurs
 -2024-07-14/
END:VEVENT
END:VCALENDAR