BEGIN:VCALENDAR
VERSION:2.0
CALSCALE:GREGORIAN
PRODID:-//WordPress//RSVPMaker//EN
METHOD:REQUEST
BEGIN:VEVENT
DTSTAMP:20260419T232348Z
UID:DBEE300829431DFDEF14E0EE506F62BE@rsvpmaker.com
SEQUENCE:0
STATUS:CONFIRMED
DTSTART:20240901T100000Z
DTEND:20240901T110000Z
LOCATION:See\: https\://www.jdykk.no/rsvpmaker/fridykkerkurs-2024-09-0
 8/
SUMMARY:Fridykkerkurs
DESCRIPTION:Event info\: https\://www.jdykk.no/rsvpmaker/fridykkerkurs
 -2024-09-08/
END:VEVENT
END:VCALENDAR