BEGIN:VCALENDAR
VERSION:2.0
CALSCALE:GREGORIAN
PRODID:-//WordPress//RSVPMaker//EN
METHOD:REQUEST
BEGIN:VEVENT
DTSTAMP:20260419T211544Z
UID:799336FBE6A9FA24FFF591661027BEAA@rsvpmaker.com
SEQUENCE:0
STATUS:CONFIRMED
DTSTART:20241006T080000Z
DTEND:20241006T120000Z
LOCATION:See\: https\://www.jdykk.no/rsvpmaker/fridykkerkurs-2024-10-0
 6/
SUMMARY:Fridykkerkurs
DESCRIPTION:Event info\: https\://www.jdykk.no/rsvpmaker/fridykkerkurs
 -2024-10-06/
END:VEVENT
END:VCALENDAR