BEGIN:VCALENDAR
VERSION:2.0
CALSCALE:GREGORIAN
PRODID:-//WordPress//RSVPMaker//EN
METHOD:REQUEST
BEGIN:VEVENT
DTSTAMP:20260419T193757Z
UID:17254CC1DECECADDFFDCFE644A7BB033@rsvpmaker.com
SEQUENCE:0
STATUS:CONFIRMED
DTSTART:20241103T090000Z
DTEND:20241103T130000Z
LOCATION:See\: https\://www.jdykk.no/rsvpmaker/fridykkerkurs-2024-11-0
 3/
SUMMARY:Fridykkerkurs
DESCRIPTION:Event info\: https\://www.jdykk.no/rsvpmaker/fridykkerkurs
 -2024-11-03/
END:VEVENT
END:VCALENDAR