BEGIN:VCALENDAR
VERSION:2.0
CALSCALE:GREGORIAN
PRODID:-//WordPress//RSVPMaker//EN
METHOD:REQUEST
BEGIN:VEVENT
DTSTAMP:20260419T173637Z
UID:A0885AACB498DD2F51D2BFFAE33D666C@rsvpmaker.com
SEQUENCE:0
STATUS:CONFIRMED
DTSTART:20241201T090000Z
DTEND:20241201T130000Z
LOCATION:See\: https\://www.jdykk.no/rsvpmaker/fridykkerkurs-2024-12-0
 1/
SUMMARY:Fridykkerkurs
DESCRIPTION:Event info\: https\://www.jdykk.no/rsvpmaker/fridykkerkurs
 -2024-12-01/
END:VEVENT
END:VCALENDAR