BEGIN:VCALENDAR
VERSION:2.0
CALSCALE:GREGORIAN
PRODID:-//WordPress//RSVPMaker//EN
METHOD:REQUEST
BEGIN:VEVENT
DTSTAMP:20260419T140250Z
UID:ECE25042F9418F0C01362E6A7E83B2C3@rsvpmaker.com
SEQUENCE:0
STATUS:CONFIRMED
DTSTART:20250216T100000Z
DTEND:20250216T130000Z
LOCATION:See\: https\://www.jdykk.no/rsvpmaker/fridykkerkurs-2025-02-2
 3/
SUMMARY:Fridykkerkurs
DESCRIPTION:Event info\: https\://www.jdykk.no/rsvpmaker/fridykkerkurs
 -2025-02-23/
END:VEVENT
END:VCALENDAR