BEGIN:VCALENDAR
VERSION:2.0
CALSCALE:GREGORIAN
PRODID:-//WordPress//RSVPMaker//EN
METHOD:REQUEST
BEGIN:VEVENT
DTSTAMP:20260419T123207Z
UID:D592C720D45B7AC0669F8DFC556477CA@rsvpmaker.com
SEQUENCE:0
STATUS:CONFIRMED
DTSTART:20250323T100000Z
DTEND:20250323T130000Z
LOCATION:See\: https\://www.jdykk.no/rsvpmaker/fridykkerkurs-2025-03-2
 3/
SUMMARY:Fridykkerkurs
DESCRIPTION:Event info\: https\://www.jdykk.no/rsvpmaker/fridykkerkurs
 -2025-03-23/
END:VEVENT
END:VCALENDAR