BEGIN:VCALENDAR
VERSION:2.0
CALSCALE:GREGORIAN
PRODID:-//WordPress//RSVPMaker//EN
METHOD:REQUEST
BEGIN:VEVENT
DTSTAMP:20260420T100149Z
UID:0AAB60902BD133BE58D32FB9596AE160@rsvpmaker.com
SEQUENCE:0
STATUS:CONFIRMED
DTSTART:20240324T090000Z
DTEND:20240324T120000Z
LOCATION:See\: https\://www.jdykk.no/rsvpmaker/fridykkerkurs-padi-2024
 -03-24/
SUMMARY:Fridykkerkurs
DESCRIPTION:Event info\: https\://www.jdykk.no/rsvpmaker/fridykkerkurs
 -padi-2024-03-24/
END:VEVENT
END:VCALENDAR