BEGIN:VCALENDAR
VERSION:2.0
CALSCALE:GREGORIAN
PRODID:-//WordPress//RSVPMaker//EN
METHOD:REQUEST
BEGIN:VEVENT
DTSTAMP:20260420T081930Z
UID:BA83F089F044354F77C14706B9601A29@rsvpmaker.com
SEQUENCE:0
STATUS:CONFIRMED
DTSTART:20240421T080000Z
DTEND:20240421T110000Z
LOCATION:See\: https\://www.jdykk.no/rsvpmaker/fridykkerkurs-padi-2024
 -04-21/
SUMMARY:Fridykkerkurs
DESCRIPTION:Event info\: https\://www.jdykk.no/rsvpmaker/fridykkerkurs
 -padi-2024-04-21/
END:VEVENT
END:VCALENDAR