BEGIN:VCALENDAR
VERSION:2.0
CALSCALE:GREGORIAN
PRODID:-//WordPress//RSVPMaker//EN
METHOD:REQUEST
BEGIN:VEVENT
DTSTAMP:20260420T062354Z
UID:9B42A0BFBB902B198AE5D5132AA761DB@rsvpmaker.com
SEQUENCE:0
STATUS:CONFIRMED
DTSTART:20240519T080000Z
DTEND:20240519T120000Z
LOCATION:See\: https\://www.jdykk.no/rsvpmaker/fridykkerkurs-padi-2024
 -05-19/
SUMMARY:Fridykkerkurs
DESCRIPTION:Event info\: https\://www.jdykk.no/rsvpmaker/fridykkerkurs
 -padi-2024-05-19/
END:VEVENT
END:VCALENDAR