BEGIN:VCALENDAR
VERSION:2.0
CALSCALE:GREGORIAN
PRODID:-//WordPress//RSVPMaker//EN
METHOD:REQUEST
BEGIN:VEVENT
DTSTAMP:20260420T082029Z
UID:112E48C8D82F66A6B56D9FF88423E96A@rsvpmaker.com
SEQUENCE:0
STATUS:CONFIRMED
DTSTART:20240402T150000Z
DTEND:20240402T160000Z
LOCATION:See\: https\://www.jdykk.no/rsvpmaker/grunnkurs-dykking-stepp
 -1-2-oppstart-og-ta-kontrolltest-2024-04-02-2/
SUMMARY:Grunnkurs dykking stepp 1 &#038; 2. Oppstart og ta kontrolltes
 t-
DESCRIPTION:Event info\: https\://www.jdykk.no/rsvpmaker/grunnkurs-dyk
 king-stepp-1-2-oppstart-og-ta-kontrolltest-2024-04-02-2/
END:VEVENT
END:VCALENDAR