BEGIN:VCALENDAR
VERSION:2.0
CALSCALE:GREGORIAN
PRODID:-//WordPress//RSVPMaker//EN
METHOD:REQUEST
BEGIN:VEVENT
DTSTAMP:20260420T043807Z
UID:85F872F5ED36C42A8A8285EA424444C8@rsvpmaker.com
SEQUENCE:0
STATUS:CONFIRMED
DTSTART:20240625T140000Z
DTEND:20240625T150000Z
LOCATION:See\: https\://www.jdykk.no/rsvpmaker/grunnkurs-dykking-stepp
 -1-2-oppstart-og-ta-kontrolltest-2024-06-25-2/
SUMMARY:Grunnkurs dykking stepp 1 & 2. Oppstart og ta kontrolltest-
DESCRIPTION:Event info\: https\://www.jdykk.no/rsvpmaker/grunnkurs-dyk
 king-stepp-1-2-oppstart-og-ta-kontrolltest-2024-06-25-2/
END:VEVENT
END:VCALENDAR