BEGIN:VCALENDAR
VERSION:2.0
CALSCALE:GREGORIAN
PRODID:-//WordPress//RSVPMaker//EN
METHOD:REQUEST
BEGIN:VEVENT
DTSTAMP:20260419T193120Z
UID:3F4C9F30CBF63D7D505AB2A0D3F68015@rsvpmaker.com
SEQUENCE:0
STATUS:CONFIRMED
DTSTART:20241112T150000Z
DTEND:20241112T160000Z
LOCATION:See\: https\://www.jdykk.no/rsvpmaker/grunnkurs-dykking-stepp
 -1-2-oppstart-og-ta-kontrolltest-2024-11-12/
SUMMARY:Grunnkurs dykking stepp 1 & 2. Oppstart og ta kontrolltest-
DESCRIPTION:Event info\: https\://www.jdykk.no/rsvpmaker/grunnkurs-dyk
 king-stepp-1-2-oppstart-og-ta-kontrolltest-2024-11-12/
END:VEVENT
END:VCALENDAR