BEGIN:VCALENDAR
VERSION:2.0
CALSCALE:GREGORIAN
PRODID:-//WordPress//RSVPMaker//EN
METHOD:REQUEST
BEGIN:VEVENT
DTSTAMP:20260419T140554Z
UID:A3EE51CA66DD3E49FAEC0E9762FD4CC1@rsvpmaker.com
SEQUENCE:0
STATUS:CONFIRMED
DTSTART:20250204T150000Z
DTEND:20250204T160000Z
LOCATION:See\: https\://www.jdykk.no/rsvpmaker/grunnkurs-dykking-stepp
 -1-2-oppstart-og-ta-kontrolltest-2025-02-04/
SUMMARY:Grunnkurs dykking stepp 1 & 2. Oppstart og ta kontrolltest-
DESCRIPTION:Event info\: https\://www.jdykk.no/rsvpmaker/grunnkurs-dyk
 king-stepp-1-2-oppstart-og-ta-kontrolltest-2025-02-04/
END:VEVENT
END:VCALENDAR