BEGIN:VCALENDAR
VERSION:2.0
CALSCALE:GREGORIAN
PRODID:-//WordPress//RSVPMaker//EN
METHOD:REQUEST
BEGIN:VEVENT
DTSTAMP:20260419T162203Z
UID:A6D60C6BA6A23CD61E412EDC806019F3@rsvpmaker.com
SEQUENCE:0
STATUS:CONFIRMED
DTSTART:20240404T163000Z
DTEND:20240404T173000Z
LOCATION:See\: https\://www.jdykk.no/rsvpmaker/grunnkurs-dykking-stepp
 -3-bassengtrening-2024-04-04/
SUMMARY:Grunnkurs dykking stepp 3, Bassengtrening-
DESCRIPTION:Event info\: https\://www.jdykk.no/rsvpmaker/grunnkurs-dyk
 king-stepp-3-bassengtrening-2024-04-04/
END:VEVENT
END:VCALENDAR