BEGIN:VCALENDAR
VERSION:2.0
CALSCALE:GREGORIAN
PRODID:-//WordPress//RSVPMaker//EN
METHOD:REQUEST
BEGIN:VEVENT
DTSTAMP:20260419T163246Z
UID:502C7B8AE13694D833C8578E61BBE364@rsvpmaker.com
SEQUENCE:0
STATUS:CONFIRMED
DTSTART:20240502T163000Z
DTEND:20240502T173000Z
LOCATION:See\: https\://www.jdykk.no/rsvpmaker/grunnkurs-dykking-stepp
 -3-bassengtrening-2024-05-02/
SUMMARY:Grunnkurs dykking stepp 3, Bassengtrening-
DESCRIPTION:Event info\: https\://www.jdykk.no/rsvpmaker/grunnkurs-dyk
 king-stepp-3-bassengtrening-2024-05-02/
END:VEVENT
END:VCALENDAR