BEGIN:VCALENDAR
VERSION:2.0
CALSCALE:GREGORIAN
PRODID:-//WordPress//RSVPMaker//EN
METHOD:REQUEST
BEGIN:VEVENT
DTSTAMP:20260419T162544Z
UID:7D00D7BF0638DC6CBE6A01ED827BEF3E@rsvpmaker.com
SEQUENCE:0
STATUS:CONFIRMED
DTSTART:20240627T163000Z
DTEND:20240627T213000Z
LOCATION:See\: https\://www.jdykk.no/rsvpmaker/grunnkurs-dykking-stepp
 -3-bassengtrening-2024-06-27/
SUMMARY:Grunnkurs dykking stepp 3, Bassengtrening-
DESCRIPTION:Event info\: https\://www.jdykk.no/rsvpmaker/grunnkurs-dyk
 king-stepp-3-bassengtrening-2024-06-27/
END:VEVENT
END:VCALENDAR