BEGIN:VCALENDAR
VERSION:2.0
CALSCALE:GREGORIAN
PRODID:-//WordPress//RSVPMaker//EN
METHOD:REQUEST
BEGIN:VEVENT
DTSTAMP:20260419T181410Z
UID:321375476C7BDB527FD9892C7C0B4944@rsvpmaker.com
SEQUENCE:0
STATUS:CONFIRMED
DTSTART:20240801T163000Z
DTEND:20240801T173000Z
LOCATION:See\: https\://www.jdykk.no/rsvpmaker/grunnkurs-dykking-stepp
 -3-bassengtrening-2024-07-25/
SUMMARY:Grunnkurs dykking stepp 3, Bassengtrening-
DESCRIPTION:Event info\: https\://www.jdykk.no/rsvpmaker/grunnkurs-dyk
 king-stepp-3-bassengtrening-2024-07-25/
END:VEVENT
END:VCALENDAR