BEGIN:VCALENDAR
VERSION:2.0
CALSCALE:GREGORIAN
PRODID:-//WordPress//RSVPMaker//EN
METHOD:REQUEST
BEGIN:VEVENT
DTSTAMP:20260419T181457Z
UID:5B6329C5BED2A6412F2717241E3DD598@rsvpmaker.com
SEQUENCE:0
STATUS:CONFIRMED
DTSTART:20240905T160000Z
DTEND:20240905T210000Z
LOCATION:See\: https\://www.jdykk.no/rsvpmaker/grunnkurs-dykking-stepp
 -3-bassengtrening-2024-08-22/
SUMMARY:Grunnkurs dykking stepp 3, Bassengtrening-
DESCRIPTION:Event info\: https\://www.jdykk.no/rsvpmaker/grunnkurs-dyk
 king-stepp-3-bassengtrening-2024-08-22/
END:VEVENT
END:VCALENDAR