BEGIN:VCALENDAR
VERSION:2.0
CALSCALE:GREGORIAN
PRODID:-//WordPress//RSVPMaker//EN
METHOD:REQUEST
BEGIN:VEVENT
DTSTAMP:20260419T194443Z
UID:6B94300AA8E981DCC31A6FF46AE29856@rsvpmaker.com
SEQUENCE:0
STATUS:CONFIRMED
DTSTART:20240926T160000Z
DTEND:20240926T210000Z
LOCATION:See\: https\://www.jdykk.no/rsvpmaker/grunnkurs-dykking-stepp
 -3-bassengtrening-2024-09-19/
SUMMARY:Grunnkurs dykking stepp 3, Bassengtrening-
DESCRIPTION:Event info\: https\://www.jdykk.no/rsvpmaker/grunnkurs-dyk
 king-stepp-3-bassengtrening-2024-09-19/
END:VEVENT
END:VCALENDAR