BEGIN:VCALENDAR
VERSION:2.0
CALSCALE:GREGORIAN
PRODID:-//WordPress//RSVPMaker//EN
METHOD:REQUEST
BEGIN:VEVENT
DTSTAMP:20260419T193613Z
UID:314FC3CAACA9CE1695AA3100C92BBF39@rsvpmaker.com
SEQUENCE:0
STATUS:CONFIRMED
DTSTART:20241114T170000Z
DTEND:20241114T220000Z
LOCATION:See\: https\://www.jdykk.no/rsvpmaker/grunnkurs-dykking-stepp
 -3-bassengtrening-2024-11-14/
SUMMARY:Grunnkurs dykking stepp 3, Bassengtrening-
DESCRIPTION:Event info\: https\://www.jdykk.no/rsvpmaker/grunnkurs-dyk
 king-stepp-3-bassengtrening-2024-11-14/
END:VEVENT
END:VCALENDAR