BEGIN:VCALENDAR
VERSION:2.0
CALSCALE:GREGORIAN
PRODID:-//WordPress//RSVPMaker//EN
METHOD:REQUEST
BEGIN:VEVENT
DTSTAMP:20260419T174045Z
UID:38CA384F808090B3AF81203CACF33F82@rsvpmaker.com
SEQUENCE:0
STATUS:CONFIRMED
DTSTART:20241212T170000Z
DTEND:20241212T220000Z
LOCATION:See\: https\://www.jdykk.no/rsvpmaker/grunnkurs-dykking-stepp
 -3-bassengtrening-2024-12-12/
SUMMARY:Grunnkurs dykking stepp 3, Bassengtrening-
DESCRIPTION:Event info\: https\://www.jdykk.no/rsvpmaker/grunnkurs-dyk
 king-stepp-3-bassengtrening-2024-12-12/
END:VEVENT
END:VCALENDAR