BEGIN:VCALENDAR
VERSION:2.0
CALSCALE:GREGORIAN
PRODID:-//WordPress//RSVPMaker//EN
METHOD:REQUEST
BEGIN:VEVENT
DTSTAMP:20260419T122112Z
UID:EC151E76E301FA1200BBA13F3FED6CD6@rsvpmaker.com
SEQUENCE:0
STATUS:CONFIRMED
DTSTART:20250306T180000Z
DTEND:20250306T190000Z
LOCATION:See\: https\://www.jdykk.no/rsvpmaker/grunnkurs-dykking-stepp
 -3-bassengtrening-2025-03-06/
SUMMARY:Grunnkurs dykking stepp 3, Bassengtrening-
DESCRIPTION:Event info\: https\://www.jdykk.no/rsvpmaker/grunnkurs-dyk
 king-stepp-3-bassengtrening-2025-03-06/
END:VEVENT
END:VCALENDAR