BEGIN:VCALENDAR
VERSION:2.0
CALSCALE:GREGORIAN
PRODID:-//WordPress//RSVPMaker//EN
METHOD:REQUEST
BEGIN:VEVENT
DTSTAMP:20260421T073103Z
UID:E7CDEC44671FB3F9EC3F8C342F988B6B@rsvpmaker.com
SEQUENCE:0
STATUS:CONFIRMED
DTSTART:20250403T173000Z
DTEND:20250403T183000Z
LOCATION:See\: https\://www.jdykk.no/rsvpmaker/grunnkurs-dykking-stepp
 -3-bassengtrening-2025-04-03/
SUMMARY:Grunnkurs dykking stepp 3, Bassengtrening-
DESCRIPTION:Event info\: https\://www.jdykk.no/rsvpmaker/grunnkurs-dyk
 king-stepp-3-bassengtrening-2025-04-03/
END:VEVENT
END:VCALENDAR