BEGIN:VCALENDAR
VERSION:2.0
CALSCALE:GREGORIAN
PRODID:-//WordPress//RSVPMaker//EN
METHOD:REQUEST
BEGIN:VEVENT
DTSTAMP:20260421T072037Z
UID:E5529AD06652545E2C7BBF2D6BA7BD8E@rsvpmaker.com
SEQUENCE:0
STATUS:CONFIRMED
DTSTART:20250501T160000Z
DTEND:20250501T170000Z
LOCATION:See\: https\://www.jdykk.no/rsvpmaker/grunnkurs-dykking-stepp
 -3-bassengtrening-2025-05-01/
SUMMARY:Grunnkurs dykking stepp 3, Bassengtrening-
DESCRIPTION:Event info\: https\://www.jdykk.no/rsvpmaker/grunnkurs-dyk
 king-stepp-3-bassengtrening-2025-05-01/
END:VEVENT
END:VCALENDAR