BEGIN:VCALENDAR
VERSION:2.0
CALSCALE:GREGORIAN
PRODID:-//WordPress//RSVPMaker//EN
METHOD:REQUEST
BEGIN:VEVENT
DTSTAMP:20260419T155046Z
UID:8E3090B7C32AE4C506AE93E4B77D81E0@rsvpmaker.com
SEQUENCE:0
STATUS:CONFIRMED
DTSTART:20260115T190000Z
DTEND:20260115T200000Z
LOCATION:See\: https\://www.jdykk.no/rsvpmaker/grunnkurs-dykking-stepp
 -3-bassengtrening-2025-12-12/
SUMMARY:Grunnkurs dykking stepp 3, Bassengtrening-
DESCRIPTION:Event info\: https\://www.jdykk.no/rsvpmaker/grunnkurs-dyk
 king-stepp-3-bassengtrening-2025-12-12/
END:VEVENT
END:VCALENDAR