BEGIN:VCALENDAR
VERSION:2.0
CALSCALE:GREGORIAN
PRODID:-//WordPress//RSVPMaker//EN
METHOD:REQUEST
BEGIN:VEVENT
DTSTAMP:20260419T140905Z
UID:AAD2D223FF82B268E0C846D95B9112EF@rsvpmaker.com
SEQUENCE:0
STATUS:CONFIRMED
DTSTART:20260410T160000Z
DTEND:20260410T170000Z
LOCATION:See\: https\://www.jdykk.no/rsvpmaker/grunnkurs-dykking-stepp
 -3-bassengtrening-2026-04-03/
SUMMARY:Grunnkurs dykking stepp 3, Bassengtrening-
DESCRIPTION:Event info\: https\://www.jdykk.no/rsvpmaker/grunnkurs-dyk
 king-stepp-3-bassengtrening-2026-04-03/
END:VEVENT
END:VCALENDAR