BEGIN:VCALENDAR
VERSION:2.0
CALSCALE:GREGORIAN
PRODID:-//WordPress//RSVPMaker//EN
METHOD:REQUEST
BEGIN:VEVENT
DTSTAMP:20260419T163246Z
UID:8B8AD5D15966898E5E82B8092A46AF1F@rsvpmaker.com
SEQUENCE:0
STATUS:CONFIRMED
DTSTART:20240504T080000Z
DTEND:20240504T090000Z
LOCATION:See\: https\://www.jdykk.no/rsvpmaker/grunnkurs-dykking-stepp
 -4-sjodykk-1-2-og-3-2024-05-04/
SUMMARY:Grunnkurs dykking stepp 4, Sjødykk 1, 2 og 3-
DESCRIPTION:Event info\: https\://www.jdykk.no/rsvpmaker/grunnkurs-dyk
 king-stepp-4-sjodykk-1-2-og-3-2024-05-04/
END:VEVENT
END:VCALENDAR