BEGIN:VCALENDAR
VERSION:2.0
CALSCALE:GREGORIAN
PRODID:-//WordPress//RSVPMaker//EN
METHOD:REQUEST
BEGIN:VEVENT
DTSTAMP:20260419T194514Z
UID:D6EB508BBF95A6560E8C2D47357CF894@rsvpmaker.com
SEQUENCE:0
STATUS:CONFIRMED
DTSTART:20240928T080000Z
DTEND:20240928T090000Z
LOCATION:See\: https\://www.jdykk.no/rsvpmaker/grunnkurs-dykking-stepp
 -4-sjodykk-1-2-og-3-2024-09-21/
SUMMARY:Grunnkurs dykking stepp 4, Sjødykk 1, 2 og 3-
DESCRIPTION:Event info\: https\://www.jdykk.no/rsvpmaker/grunnkurs-dyk
 king-stepp-4-sjodykk-1-2-og-3-2024-09-21/
END:VEVENT
END:VCALENDAR