BEGIN:VCALENDAR
VERSION:2.0
CALSCALE:GREGORIAN
PRODID:-//WordPress//RSVPMaker//EN
METHOD:REQUEST
BEGIN:VEVENT
DTSTAMP:20260419T193426Z
UID:78F53804FF4DDE8840C36ACE43043E7D@rsvpmaker.com
SEQUENCE:0
STATUS:CONFIRMED
DTSTART:20241116T090000Z
DTEND:20241116T100000Z
LOCATION:See\: https\://www.jdykk.no/rsvpmaker/grunnkurs-dykking-stepp
 -4-sjodykk-1-2-og-3-2024-11-16/
SUMMARY:Grunnkurs dykking stepp 4, Sjødykk 1, 2 og 3-
DESCRIPTION:Event info\: https\://www.jdykk.no/rsvpmaker/grunnkurs-dyk
 king-stepp-4-sjodykk-1-2-og-3-2024-11-16/
END:VEVENT
END:VCALENDAR