BEGIN:VCALENDAR
VERSION:2.0
CALSCALE:GREGORIAN
PRODID:-//WordPress//RSVPMaker//EN
METHOD:REQUEST
BEGIN:VEVENT
DTSTAMP:20260419T154912Z
UID:B2542CCD0A6D077410D8CD43316384A3@rsvpmaker.com
SEQUENCE:0
STATUS:CONFIRMED
DTSTART:20260207T090000Z
DTEND:20260207T100000Z
LOCATION:See\: https\://www.jdykk.no/rsvpmaker/grunnkurs-dykking-stepp
 -4-sjodykk-1-2-og-3-2026-02-07/
SUMMARY:Grunnkurs dykking stepp 4, Sjødykk 1, 2 og 3-
DESCRIPTION:Event info\: https\://www.jdykk.no/rsvpmaker/grunnkurs-dyk
 king-stepp-4-sjodykk-1-2-og-3-2026-02-07/
END:VEVENT
END:VCALENDAR