BEGIN:VCALENDAR
VERSION:2.0
CALSCALE:GREGORIAN
PRODID:-//WordPress//RSVPMaker//EN
METHOD:REQUEST
BEGIN:VEVENT
DTSTAMP:20260419T162544Z
UID:62568CA507AD9E4C3B73EA81A7B8546A@rsvpmaker.com
SEQUENCE:0
STATUS:CONFIRMED
DTSTART:20240407T080000Z
DTEND:20240407T090000Z
LOCATION:See\: https\://www.jdykk.no/rsvpmaker/grunnkurs-dykking-stepp
 -5-sjodykk-4-5-og-6-2024-04-07/
SUMMARY:Grunnkurs dykking stepp 5, Sjødykk 4, 5 og 6-
DESCRIPTION:Event info\: https\://www.jdykk.no/rsvpmaker/grunnkurs-dyk
 king-stepp-5-sjodykk-4-5-og-6-2024-04-07/
END:VEVENT
END:VCALENDAR