BEGIN:VCALENDAR
VERSION:2.0
CALSCALE:GREGORIAN
PRODID:-//WordPress//RSVPMaker//EN
METHOD:REQUEST
BEGIN:VEVENT
DTSTAMP:20260419T181832Z
UID:4B996E96A046FBF530C3734BE2F8E66C@rsvpmaker.com
SEQUENCE:0
STATUS:CONFIRMED
DTSTART:20240908T080000Z
DTEND:20240908T090000Z
LOCATION:See\: https\://www.jdykk.no/rsvpmaker/grunnkurs-dykking-stepp
 -5-sjodykk-4-5-og-6-2024-08-25/
SUMMARY:Grunnkurs dykking stepp 5, Sjødykk 4, 5 og 6-
DESCRIPTION:Event info\: https\://www.jdykk.no/rsvpmaker/grunnkurs-dyk
 king-stepp-5-sjodykk-4-5-og-6-2024-08-25/
END:VEVENT
END:VCALENDAR