BEGIN:VCALENDAR
VERSION:2.0
CALSCALE:GREGORIAN
PRODID:-//WordPress//RSVPMaker//EN
METHOD:REQUEST
BEGIN:VEVENT
DTSTAMP:20260419T141336Z
UID:20F9E2FC92330D9D8306B9C6D338F391@rsvpmaker.com
SEQUENCE:0
STATUS:CONFIRMED
DTSTART:20250209T090000Z
DTEND:20250209T170000Z
LOCATION:See\: https\://www.jdykk.no/rsvpmaker/grunnkurs-dykking-stepp
 -5-sjodykk-4-5-og-6-2025-02-09/
SUMMARY:Grunnkurs dykking stepp 5, Sjødykk 4, 5 og 6-
DESCRIPTION:Event info\: https\://www.jdykk.no/rsvpmaker/grunnkurs-dyk
 king-stepp-5-sjodykk-4-5-og-6-2025-02-09/
END:VEVENT
END:VCALENDAR