BEGIN:VCALENDAR
VERSION:2.0
CALSCALE:GREGORIAN
PRODID:-//WordPress//RSVPMaker//EN
METHOD:REQUEST
BEGIN:VEVENT
DTSTAMP:20260419T122911Z
UID:5F21CC16A73886DFD4E04F6F52D7A44B@rsvpmaker.com
SEQUENCE:0
STATUS:CONFIRMED
DTSTART:20250309T090000Z
DTEND:20250309T170000Z
LOCATION:See\: https\://www.jdykk.no/rsvpmaker/grunnkurs-dykking-stepp
 -5-sjodykk-4-5-og-6-2025-03-09/
SUMMARY:Grunnkurs dykking stepp 5, Sjødykk 4, 5 og 6-
DESCRIPTION:Event info\: https\://www.jdykk.no/rsvpmaker/grunnkurs-dyk
 king-stepp-5-sjodykk-4-5-og-6-2025-03-09/
END:VEVENT
END:VCALENDAR