BEGIN:VCALENDAR
VERSION:2.0
CALSCALE:GREGORIAN
PRODID:-//WordPress//RSVPMaker//EN
METHOD:REQUEST
BEGIN:VEVENT
DTSTAMP:20260419T154743Z
UID:EDB7013A247F47FF1F9EA4CDECEBB17F@rsvpmaker.com
SEQUENCE:0
STATUS:CONFIRMED
DTSTART:20260118T090000Z
DTEND:20260118T100000Z
LOCATION:See\: https\://www.jdykk.no/rsvpmaker/grunnkurs-dykking-stepp
 -5-sjodykk-4-5-og-6-2025-12-14/
SUMMARY:Grunnkurs dykking stepp 5, Sjødykk 4, 5 og 6-
DESCRIPTION:Event info\: https\://www.jdykk.no/rsvpmaker/grunnkurs-dyk
 king-stepp-5-sjodykk-4-5-og-6-2025-12-14/
END:VEVENT
END:VCALENDAR