BEGIN:VCALENDAR
VERSION:2.0
CALSCALE:GREGORIAN
PRODID:-//WordPress//RSVPMaker//EN
METHOD:REQUEST
BEGIN:VEVENT
DTSTAMP:20260421T083431Z
UID:B219B728655E757A55AFEF5EEC559513@rsvpmaker.com
SEQUENCE:0
STATUS:CONFIRMED
DTSTART:20240225T090000Z
DTEND:20240225T120000Z
LOCATION:See\: https\://www.jdykk.no/rsvpmaker/torrdraktskurs-oppfrisk
 ningskurs-2024-02-25-2/
SUMMARY:Tørrdraktskurs/Oppfriskningskurs-
DESCRIPTION:Event info\: https\://www.jdykk.no/rsvpmaker/torrdraktskur
 s-oppfriskningskurs-2024-02-25-2/
END:VEVENT
END:VCALENDAR