BEGIN:VCALENDAR
VERSION:2.0
CALSCALE:GREGORIAN
PRODID:-//WordPress//RSVPMaker//EN
METHOD:REQUEST
BEGIN:VEVENT
DTSTAMP:20260420T082852Z
UID:E7BA11F82E84ACE72B01620EB5C00970@rsvpmaker.com
SEQUENCE:0
STATUS:CONFIRMED
DTSTART:20240407T080000Z
DTEND:20240407T090000Z
LOCATION:See\: https\://www.jdykk.no/rsvpmaker/torrdraktskurs-oppfrisk
 ningskurs-2024-03-24-2/
SUMMARY:Tørrdraktskurs/Oppfriskningskurs-
DESCRIPTION:Event info\: https\://www.jdykk.no/rsvpmaker/torrdraktskur
 s-oppfriskningskurs-2024-03-24-2/
END:VEVENT
END:VCALENDAR