BEGIN:VCALENDAR
VERSION:2.0
CALSCALE:GREGORIAN
PRODID:-//WordPress//RSVPMaker//EN
METHOD:REQUEST
BEGIN:VEVENT
DTSTAMP:20260423T155252Z
UID:34EF1A8F30F6090411800D450130E8A5@rsvpmaker.com
SEQUENCE:0
STATUS:CONFIRMED
DTSTART:20260524T080000Z
DTEND:20260524T130000Z
LOCATION:See\: https\://www.jdykk.no/rsvpmaker/torrdraktskurs-oppfrisk
 ningskurs-2026-05-24/
SUMMARY:Tørrdraktskurs/Oppfriskningskurs-
DESCRIPTION:Event info\: https\://www.jdykk.no/rsvpmaker/torrdraktskur
 s-oppfriskningskurs-2026-05-24/
END:VEVENT
END:VCALENDAR