BEGIN:VCALENDAR
VERSION:2.0
CALSCALE:GREGORIAN
PRODID:-//WordPress//RSVPMaker//EN
METHOD:REQUEST
BEGIN:VEVENT
DTSTAMP:20260420T044555Z
UID:D787A8DA311381A29C76631E814AD152@rsvpmaker.com
SEQUENCE:0
STATUS:CONFIRMED
DTSTART:20240622T080000Z
DTEND:20240622T090000Z
LOCATION:See\: https\://www.jdykk.no/rsvpmaker/utvidet-kurs-padi-advan
 ced-open-water-diver-2024-06-15/
SUMMARY:Utvidet kurs - PADI Advanced Open Water Diver-
DESCRIPTION:Event info\: https\://www.jdykk.no/rsvpmaker/utvidet-kurs-
 padi-advanced-open-water-diver-2024-06-15/
END:VEVENT
END:VCALENDAR