BEGIN:VCALENDAR
VERSION:2.0
CALSCALE:GREGORIAN
PRODID:-//WordPress//RSVPMaker//EN
METHOD:REQUEST
BEGIN:VEVENT
DTSTAMP:20260419T231303Z
UID:FDE6D0571959D261E5FA943578D0E901@rsvpmaker.com
SEQUENCE:0
STATUS:CONFIRMED
DTSTART:20240907T080000Z
DTEND:20240907T150000Z
LOCATION:See\: https\://www.jdykk.no/rsvpmaker/utvidet-kurs-padi-advan
 ced-open-water-diver-2024-09-07/
SUMMARY:Utvidet kurs - PADI Advanced Open Water Diver-
DESCRIPTION:Event info\: https\://www.jdykk.no/rsvpmaker/utvidet-kurs-
 padi-advanced-open-water-diver-2024-09-07/
END:VEVENT
END:VCALENDAR