BEGIN:VCALENDAR
VERSION:2.0
CALSCALE:GREGORIAN
PRODID:-//WordPress//RSVPMaker//EN
METHOD:REQUEST
BEGIN:VEVENT
DTSTAMP:20260419T193633Z
UID:B07D6CFC25A083E1287901D5ACEEAB26@rsvpmaker.com
SEQUENCE:0
STATUS:CONFIRMED
DTSTART:20241102T080000Z
DTEND:20241102T090000Z
LOCATION:See\: https\://www.jdykk.no/rsvpmaker/utvidet-kurs-padi-advan
 ced-open-water-diver-2024-11-02/
SUMMARY:Utvidet kurs - PADI Advanced Open Water Diver-
DESCRIPTION:Event info\: https\://www.jdykk.no/rsvpmaker/utvidet-kurs-
 padi-advanced-open-water-diver-2024-11-02/
END:VEVENT
END:VCALENDAR