BEGIN:VCALENDAR
VERSION:2.0
CALSCALE:GREGORIAN
PRODID:-//WordPress//RSVPMaker//EN
METHOD:REQUEST
BEGIN:VEVENT
DTSTAMP:20260419T193514Z
UID:CD9E7AFDCF2F17076657336FAC999809@rsvpmaker.com
SEQUENCE:0
STATUS:CONFIRMED
DTSTART:20241116T090000Z
DTEND:20241116T160000Z
LOCATION:See\: https\://www.jdykk.no/rsvpmaker/utvidet-kurs-padi-advan
 ced-open-water-diver-2024-11-16/
SUMMARY:Utvidet kurs - PADI Advanced Open Water Diver-
DESCRIPTION:Event info\: https\://www.jdykk.no/rsvpmaker/utvidet-kurs-
 padi-advanced-open-water-diver-2024-11-16/
END:VEVENT
END:VCALENDAR