BEGIN:VCALENDAR
VERSION:2.0
CALSCALE:GREGORIAN
PRODID:-//WordPress//RSVPMaker//EN
METHOD:REQUEST
BEGIN:VEVENT
DTSTAMP:20260419T140404Z
UID:3E96B13DEAFA531029EECB91F085A2F9@rsvpmaker.com
SEQUENCE:0
STATUS:CONFIRMED
DTSTART:20250222T090000Z
DTEND:20250222T160000Z
LOCATION:See\: https\://www.jdykk.no/rsvpmaker/utvidet-kurs-padi-advan
 ced-open-water-diver-2025-02-22/
SUMMARY:Utvidet kurs - PADI Advanced Open Water Diver-
DESCRIPTION:Event info\: https\://www.jdykk.no/rsvpmaker/utvidet-kurs-
 padi-advanced-open-water-diver-2025-02-22/
END:VEVENT
END:VCALENDAR